Workbook

Sheet GFI試験申請書
A1: 2027年度版 | I1: （GFI書式5）
A2: 「GFI資格」 試験申請書
A3: ※申請は必ず実施日の１カ月前までに協会事務局まで申請して下さい。 | F3: 申請日
F4: （西暦で入力・記載してください）
A5: 養成校名
A6: 養成コース修了（予定）日
A8: 【筆記テスト】 | B8: 実施日 | E8: （←西暦で入力・記載してください）
A9: ■実施時間 | B9: 開始 | D9: ～ 終了 | F9: 計 | H9: 分
B10: ※試験時間 F基礎理論：30分、Gex指導理論：10分、種目別指導理論：各20分
A11: ■筆記受験種目 延べ人数を記入してください
B12: 共通 | D12: 種目別
A13: 受験項目 | B13: F基礎理論 第2改訂版 | C13: Gex指導理論 | D13: AD | E13: RE | F13: SE | G13: WE | H13: AQW | I13: AQD
A14: 初受験人数
A15: 再受験人数
A16: 合計 | B16: =IF(AND(B14="",B15=""),"",SUM(B14:B15)) | C16: =IF(AND(C14="",C15=""),"",SUM(C14:C15)) | D16: =IF(AND(D14="",D15=""),"",SUM(D14:D15)) | E16: =IF(AND(E14="",E15=""),"",SUM(E14:E15)) | F16: =IF(AND(F14="",F15=""),"",SUM(F14:F15)) | G16: =IF(AND(G14="",G15=""),"",SUM(G14:G15)) | H16: =IF(AND(H14="",H15=""),"",SUM(H14:H15)) | I16: =IF(AND(I14="",I15=""),"",SUM(I14:I15))
A17: 筆記受験者数 | D17: 名（実数）
A18: 実施場所
A19: 筆記試験官名
A22: 【実技テスト】 | B22: 実施日 | E22: （←西暦で入力・記載してください）
A23: ■実施時間 | B23: 開始 | D23: ～ 終了 | F23: 計 | H23: 分
A25: ■実技受験種目 延べ人数を記入してください
C26: 種目別
A27: 受験項目 | C27: AD | D27: RE | E27: SE | F27: WE | G27: AQW | H27: AQD
A28: 受験人数 | B28: ﾍﾞｰｼｯｸ
B29: ｲﾝｽﾄﾗｸﾀｰ
A30: 実技受験者数 | D30: 名（実数）
A31: 実施場所
A32: 実技試験官名
A34: 【試験書類送付先】
A35: 〒 | C35: 住所
A36: 宛名 | F36: 担当者
A37: ＴＥＬ
E38: 試験結果 （通知方法選択） | G38: JAFAから各受験者へ発送 （養成校には一覧表で通知）
G39: 養成校へまとめて発送
A41: 備考欄 | H41: 事務局記入欄
H42: AO | I42: SF

Sheet GFI試験申請書 (記入例)
A1: 2027年度版 | I1: （GFI書式5）
A2: 「GFI資格」 試験申請書
A3: ※申請は必ず実施日の１カ月前までに協会事務局まで申請して下さい。 | F3: 申請日 | G3: 45948
F4: （西暦で入力・記載してください）
A5: 養成校名 | B5: ＊＊＊＊専門学校
A6: 養成コース修了（予定）日 | C6: 46091
A8: 【筆記テスト】 | B8: 実施日 | C8: 45992 | E8: （←西暦で入力・記載してください）
A9: ■実施時間 | B9: 開始 | C9: 0.4375 | D9: ～ 終了 | E9: 0.49305556 | F9: 計 | G9: 80 | H9: 分
B10: ※試験時間 F基礎理論：30分、Gex指導理論：10分、種目別指導理論：各20分
A11: ■筆記受験種目 延べ人数を記入してください
B12: 共通 | D12: 種目別
A13: 受験項目 | B13: F基礎理論 第2改訂版 | C13: Gex指導理論 | D13: AD | E13: RE | F13: SE | G13: WE | H13: AQW | I13: AQD
A14: 初受験人数 | B14: 5 | C14: 5 | E14: 5 | F14: 5
A15: 再受験人数 | B15: 2
A16: 合計 | B16: =IF(B14="","",SUM(B14:B15)) | C16: =IF(C14="","",SUM(C14:C15)) | D16: =IF(D14="","",SUM(D14:D15)) | E16: =IF(E14="","",SUM(E14:E15)) | F16: =IF(F14="","",SUM(F14:F15)) | G16: =IF(G14="","",SUM(G14:G15)) | H16: =IF(H14="","",SUM(H14:H15)) | I16: =IF(I14="","",SUM(I14:I15))
A17: 筆記受験者数 | B17: 7 | D17: 名（実数）
A18: 実施場所 | B18: ＊＊＊＊専門学校 ＊＊室
A19: 筆記試験官名 | B19: ＊＊ ＊＊
A22: 【実技テスト】 | B22: 実施日 | C22: =C8 | E22: （←西暦で入力・記載してください）
A23: ■実施時間 | B23: 開始 | C23: 0.54166667 | D23: ～ 終了 | E23: 0.58333333 | F23: 計 | G23: 60 | H23: 分
A25: ■実技受験種目 延べ人数を記入してください
C26: 種目別
A27: 受験項目 | C27: AD | D27: RE | E27: SE | F27: WE | G27: AQW | H27: AQD
A28: 受験人数 | B28: ﾍﾞｰｼｯｸ
B29: ｲﾝｽﾄﾗｸﾀｰ | D29: 5 | E29: 5
A30: 実技受験者数 | B30: 5 | D30: 名（実数）
A31: 実施場所 | B31: ＊＊＊＊専門学校 ＊＊室
A32: 実技試験官名 | B32: ＊＊ ＊＊
A34: 【試験書類送付先】
A35: 〒 | B35: ***-**** | C35: 住所 | D35: 東京都中央区************
A36: 宛名 | B36: ＊＊＊＊専門学校 | F36: 担当者 | G36: ＊＊ ＊＊
A37: ＴＥＬ | B37: 03-****-****
E38: 試験結果 （通知方法選択） | F38: ― | G38: JAFAから各受験者へ発送 （養成校には一覧表で通知）
F39: ○ | G39: 養成校へまとめて発送
A41: 備考欄

Sheet 貼り付け用データ
A1: 養成校名 | B1: 修了（予定）日 | C1: 筆記実施日 | D1: 筆記開始 | E1: 筆記終了 | F1: 筆記時間計 | G1: F基礎理論（初） | H1: Gex指導理論（初） | I1: 筆記-AD（初） | J1: 筆記-RE（初） | K1: 筆記-SE（初） | L1: 筆記-WE（初） | M1: 筆記-AQW（初） | N1: 筆記-AQD（初） | O1: F基礎理論（再） | P1: Gex指導理論（再） | Q1: 筆記-AD（再） | R1: 筆記-RE（再） | S1: 筆記-SE（再） | T1: 筆記-WE（再） | U1: 筆記-AQW（再） | V1: 筆記-AQD（再） | W1: F基礎理論（計） | X1: Gex指導理論（計） | Y1: 筆記-AD（計） | Z1: 筆記-RE（計） | AA1: 筆記-SE（計） | AB1: 筆記-WE（計） | AC1: 筆記-AQW（計） | AD1: 筆記-AQD（計） | AE1: 筆記受験者数 | AF1: 実施場所 | AG1: 筆記試験官名 | AH1: 実技実施日 | AI1: 実技開始 | AJ1: 実技終了 | AK1: 実技時間計 | AL1: ﾍﾞｰｼｯｸ-AD | AM1: ﾍﾞｰｼｯｸ-RE | AN1: ﾍﾞｰｼｯｸ-SE | AO1: ﾍﾞｰｼｯｸ-WE | AP1: ﾍﾞｰｼｯｸ-AQW | AQ1: ﾍﾞｰｼｯｸ-AQD | AR1: ｲﾝｽﾄﾗｸﾀｰ-AD | AS1: ｲﾝｽﾄﾗｸﾀｰ-RE | AT1: ｲﾝｽﾄﾗｸﾀｰ-SE | AU1: ｲﾝｽﾄﾗｸﾀｰ-WE | AV1: ｲﾝｽﾄﾗｸﾀｰ-AQW | AW1: ｲﾝｽﾄﾗｸﾀｰ-AQD | AX1: 実技受験者数 | AY1: 実施場所 | AZ1: 実技試験官名 | BA1: 〒 | BB1: 住所 | BC1: 宛名 | BD1: 担当者 | BE1: TEL | BF1: 請求書 | BG1: 試験結果（JAFA→個人） | BH1: 試験結果（養成校へまとめて）
A2: =GFI試験申請書!B5 | B2: =GFI試験申請書!C6 | C2: =GFI試験申請書!C8 | D2: =GFI試験申請書!C9 | E2: =GFI試験申請書!E9 | F2: =GFI試験申請書!G9 | G2: =GFI試験申請書!B14 | H2: =GFI試験申請書!C14 | I2: =GFI試験申請書!D14 | J2: =GFI試験申請書!E14 | K2: =GFI試験申請書!F14 | L2: =GFI試験申請書!G14 | M2: =GFI試験申請書!H14 | N2: =GFI試験申請書!I14 | O2: =GFI試験申請書!B15 | P2: =GFI試験申請書!C15 | Q2: =GFI試験申請書!D15 | R2: =GFI試験申請書!E15 | S2: =GFI試験申請書!F15 | T2: =GFI試験申請書!G15 | U2: =GFI試験申請書!H15 | V2: =GFI試験申請書!I15 | W2: =GFI試験申請書!B16 | X2: =GFI試験申請書!C16 | Y2: =GFI試験申請書!D16 | Z2: =GFI試験申請書!E16 | AA2: =GFI試験申請書!F16 | AB2: =GFI試験申請書!G16 | AC2: =GFI試験申請書!H16 | AD2: =GFI試験申請書!I16 | AE2: =GFI試験申請書!B17 | AF2: =GFI試験申請書!B18 | AG2: =GFI試験申請書!B19 | AH2: =GFI試験申請書!C22 | AI2: =GFI試験申請書!C23 | AJ2: =GFI試験申請書!E23 | AK2: =GFI試験申請書!G23 | AL2: =GFI試験申請書!C28 | AM2: =GFI試験申請書!D28 | AN2: =GFI試験申請書!E28 | AO2: =GFI試験申請書!F28 | AP2: =GFI試験申請書!G28 | AQ2: =GFI試験申請書!H28 | AR2: =GFI試験申請書!C29 | AS2: =GFI試験申請書!D29 | AT2: =GFI試験申請書!E29 | AU2: =GFI試験申請書!F29 | AV2: =GFI試験申請書!G29 | AW2: =GFI試験申請書!H29 | AX2: =GFI試験申請書!B30 | AY2: =GFI試験申請書!B31 | AZ2: =GFI試験申請書!B32 | BA2: =GFI試験申請書!B35 | BB2: =GFI試験申請書!D35 | BC2: =GFI試験申請書!B36 | BD2: =GFI試験申請書!G36 | BE2: =GFI試験申請書!B37 | BF2: =GFI試験申請書!B38 | BG2: =GFI試験申請書!F38 | BH2: =GFI試験申請書!F39
